BEGIN:VCALENDAR
PRODID:-//Microsoft Corporation//Outlook 15.0 MIMEDIR//EN
VERSION:2.0
METHOD:PUBLISH
X-MS-OLK-FORCEINSPECTOROPEN:TRUE
BEGIN:VTIMEZONE
TZID:E. Australia Standard Time
BEGIN:STANDARD
DTSTART:16010101T000000
TZOFFSETFROM:+1000
TZOFFSETTO:+1000
END:STANDARD
END:VTIMEZONE
BEGIN:VEVENT
CLASS:PUBLIC
CREATED:20190228T021652Z
DESCRIPTION:The University of Southern Queensland (USQ) is proud to host the 30th Annual Conference of the Australasian Association for Engineering Education, AAEE2019, at the Brisbane Convention and Exhibition Centre (BCEC).
DTEND;TZID="E. Australia Standard Time":20191211T163000
DTSTAMP:20190228T021652Z
DTSTART;TZID="E. Australia Standard Time":20191208T090000
LOCATION:Brisbane Convention and Exhibition Centre
SUMMARY;LANGUAGE=en-au:Australasian Association for Engineering Education 2019
TRANSP:OPAQUE
UID: 1ab2bea3-bd55-4245-90ad-53d4fcc71126@usq.edu.au
END:VEVENT
END:VCALENDAR
